BEGIN:VCALENDAR
VERSION:2.0
PRODID:-//ChamberMaster//Event Calendar 2.0//EN
METHOD:PUBLISH
X-PUBLISHED-TTL:P3D
REFRESH-INTERVAL:P3D
CALSCALE:GREGORIAN
BEGIN:VEVENT
DTSTART:20220909T180000Z
DTEND:20220909T190000Z
X-MICROSOFT-CDO-ALLDAYEVENT:FALSE
SUMMARY:Anne M. Ierardi Program
DESCRIPTION:Anne M. Ierardi Program at the Yarmouth Port Library. Anne Ierardi is an award-winning author\, painter and minister. Her art has been featured in exhibits across Cape Cod and New England as well as illustrated in a prose poem book written by Nanette Geertz. Anne says her memoir "Coming Alive" is the story of her quest through coming out\, becoming an artist\, and entering ordained ministry. Anne will speak at The Yarmouth Port Library\, 297 Rt 6A (Main Street)\, Friday\, September 9th at 2PM. Call the library at 508-362-3717 to reserve your spot. Mask wearing is recommended.
X-ALT-DESC;FMTTYPE=text/html:Anne M. Ierardi Program at the Yarmouth Port Library. Anne Ierardi is an award-winning author\, painter and minister. Her art has been featured in exhibits across Cape Cod and New England as well as illustrated in a prose poem book written by Nanette Geertz. Anne says her memoir &ldquo\;Coming Alive&rdquo\; is the story of her quest through coming out\, becoming an artist\, and entering ordained ministry. Anne will speak at The Yarmouth Port Library\, 297 Rt 6A (Main Street)\, Friday\, September 9th at 2PM. Call the library at 508-362-3717 to reserve your spot. Mask wearing is recommended.
LOCATION:Yarmouth Port Library 297 Rt 6A (Main Street) Yarmouth Port\, MA 02675
UID:e.2831.16170
SEQUENCE:3
DTSTAMP:20260420T182848Z
URL:http://yarmouth-dev.chambermaster.com/events/details/anne-m-ierardi-program-16170
END:VEVENT

END:VCALENDAR
