BEGIN:VCALENDAR
VERSION:2.0
PRODID:-//ChamberMaster//Event Calendar 2.0//EN
METHOD:PUBLISH
X-PUBLISHED-TTL:P3D
REFRESH-INTERVAL:P3D
CALSCALE:GREGORIAN
BEGIN:VEVENT
DTSTART:20220928T220000Z
DTEND:20220929T000000Z
X-MICROSOFT-CDO-ALLDAYEVENT:FALSE
SUMMARY:Baking with Linda: Multicultural Flatbreads
DESCRIPTION:Presented by the Cultural Center of Cape Cod on Wednesday\, September 28\, from 6-8pm. Flatbread is one of the tastiest and easiest breads to make. There are endless ways to eat it. We will be using different toppings to make a variety of flatbreads. Add and change ingredients to your taste\, and you'll have an endless array of tasty flatbreads to accompany any meal. $47/$43members. Register at www.cultural-center.org or call 508-394-7100. The Cultural Center is located at 307 Old Main Street in South Yarmouth.
X-ALT-DESC;FMTTYPE=text/html:Presented by the Cultural Center of Cape Cod on Wednesday\, September 28\, from 6-8pm. Flatbread is one of the tastiest and easiest breads to make. There are endless ways to eat it. We will be using different toppings to make a variety of flatbreads. Add and change ingredients to your taste\, and you&rsquo\;ll have an endless array of tasty flatbreads to accompany any meal. $47/$43members. Register at www.cultural-center.org or call 508-394-7100. The Cultural Center is located at 307 Old Main Street in South Yarmouth.
LOCATION:The Cultural Center is located at 307 Old Main Street in South Yarmouth.
UID:e.2831.16271
SEQUENCE:3
DTSTAMP:20260423T035119Z
URL:http://yarmouth-dev.chambermaster.com/events/details/baking-with-linda-multicultural-flatbreads-16271
END:VEVENT

END:VCALENDAR
