BEGIN:VCALENDAR
VERSION:2.0
PRODID:-//ChamberMaster//Event Calendar 2.0//EN
METHOD:PUBLISH
X-PUBLISHED-TTL:P3D
REFRESH-INTERVAL:P3D
CALSCALE:GREGORIAN
BEGIN:VEVENT
DTSTART:20220211T180000Z
DTEND:20220211T200000Z
X-MICROSOFT-CDO-ALLDAYEVENT:FALSE
SUMMARY:Ballroom Dance Class
DESCRIPTION:Spend the afternoon learning a new dance step and also having a practice dance afterwards. A great way for getting together and for exercise. Dance the afternoon away! Sponsored by FOYCOA
X-ALT-DESC;FMTTYPE=text/html:Spend the afternoon learning a new dance step and also having a practice dance afterwards. A great way for getting together and for exercise. Dance the afternoon away! Sponsored by FOYCOA
LOCATION:Yarmouth Senior Center 528 Forest Road West Yarmouth MA 02673
UID:e.2831.14559
SEQUENCE:3
DTSTAMP:20260425T205953Z
URL:http://yarmouth-dev.chambermaster.com/events/details/ballroom-dance-class-14559
END:VEVENT

END:VCALENDAR
