BEGIN:VCALENDAR
VERSION:2.0
PRODID:-//ChamberMaster//Event Calendar 2.0//EN
METHOD:PUBLISH
X-PUBLISHED-TTL:P3D
REFRESH-INTERVAL:P3D
CALSCALE:GREGORIAN
BEGIN:VEVENT
DTSTART:20230513T134500Z
DTEND:20230513T150000Z
X-MICROSOFT-CDO-ALLDAYEVENT:FALSE
SUMMARY:Birdwatching Walk
DESCRIPTION:Birdwatching Walk Birdwatching expert Gretchen Moran Towers from the Cape Cod Museum of Natural History will lead a 1.25-mile bird tour of the Historical Society of Old Yarmouth's 50-acre preserve on May 13. Known as the "Cape Cod Bird Nerd\," Towers specializes in leading bird walks through local natural surroundings. She has a degree in animal science and a fascination with birds in particular Meet at the Gate House behind the Yarmouth Port Post Office on Route 6A at 9:45 a.m. Bring binoculars\, hat\, bug repellent and water. Rain cancels. Walk intended for adults and children 12 and over. Reservations required at $10 for HSOY members\, $15 for nonmembers\, at www.hsoy.org/events.
X-ALT-DESC;FMTTYPE=text/html:Birdwatching Walk Birdwatching expert Gretchen Moran Towers from the Cape Cod Museum of Natural History will lead a 1.25-mile bird tour of the Historical Society of Old Yarmouth&rsquo\;s 50-acre preserve on May 13. Known as the &ldquo\;Cape Cod Bird Nerd\,&rdquo\; Towers specializes in leading bird walks through local natural surroundings. She has a degree in animal science and a fascination with birds in particular Meet at the Gate House behind the Yarmouth Port Post Office on Route 6A at 9:45 a.m. Bring binoculars\, hat\, bug repellent and water. Rain cancels. Walk intended for adults and children 12 and over. Reservations required at $10 for HSOY members\, $15 for nonmembers\, at www.hsoy.org/events.
LOCATION:Historical Society of Old Yarmouth trail\, Yarmouth Port
UID:e.2831.16735
SEQUENCE:3
DTSTAMP:20260421T031619Z
URL:http://yarmouth-dev.chambermaster.com/events/details/birdwatching-walk-16735
END:VEVENT

END:VCALENDAR
