BEGIN:VCALENDAR
VERSION:2.0
PRODID:-//ChamberMaster//Event Calendar 2.0//EN
METHOD:PUBLISH
X-PUBLISHED-TTL:P3D
REFRESH-INTERVAL:P3D
CALSCALE:GREGORIAN
BEGIN:VEVENT
DTSTART:20221015T233000Z
DTEND:20221016T013000Z
X-MICROSOFT-CDO-ALLDAYEVENT:FALSE
SUMMARY:Bravo Broadway!
DESCRIPTION:The Cape Symphony kicks off the CapePOPS! Series with Bravo Broadway!\, featuring three of Broadway's hottest stars. On October 15 and 16\, these veteran performers will take the audience on a journey through the decades of musical theater\, with hits from top shows including The Music Man\, Cabaret\, Funny Girl\, Wicked\, and Dear Evan Hansen\, to name a few. Both Funny Girl and The Music Man returned to Broadway in 2022\, and the Cape Symphony will perform "Don't Rain On My Parade" from the former and both "76 Trombones" and "Ya Got Trouble" from the latter. From the poignancy of "I Dreamed a Dream" from Les Miserables to the toe-tapping "You Can't Stop the Beat" from Hairspray\, audiences will feel that they are in a theater on 42nd Street. For our Bravo Broadway! weekend in October\, the Sunday matinee is almost sold out\, so why not make a date for Saturday night? The Cape Symphony is proud to present "Bravo Broadway!" on Saturday\, October 15 at 7:30 p.m. and Sunday\, October 16 at 3:00 p.m. at the Barnstable Performing Arts Center\, 744 West Main Street\, Hyannis. For more information and to purchase tickets for "Bravo Broadway!\," visit capesymphony.org\, call the Box Office at 508-362-1111\, or email tickets@capesymphony.org. Beginning Monday\, September 26\, visit the Box Office in the new location at 2235 Iyannough Road in West Barnstable\, MA. The Cape Symphony Box Office is open Monday   Friday from 9:00 a.m. to 5:00 p.m.
X-ALT-DESC;FMTTYPE=text/html:The Cape Symphony kicks off the CapePOPS! Series with Bravo Broadway!\, featuring three of Broadway&rsquo\;s hottest stars. On October 15 and 16\, these veteran performers will take the audience on a journey through the decades of musical theater\, with hits from top shows including The Music Man\, Cabaret\, Funny Girl\, Wicked\, and Dear Evan Hansen\, to name a few. Both Funny Girl and The Music Man returned to Broadway in 2022\, and the Cape Symphony will perform &ldquo\;Don&rsquo\;t Rain On My Parade&rdquo\; from the former and both &ldquo\;76 Trombones&rdquo\; and &ldquo\;Ya Got Trouble&rdquo\; from the latter. From the poignancy of &ldquo\;I Dreamed a Dream&rdquo\; from Les Miserables to the toe-tapping &ldquo\;You Can&rsquo\;t Stop the Beat&rdquo\; from Hairspray\, audiences will feel that they are in a theater on 42nd Street. For our Bravo Broadway! weekend in October\, the Sunday matinee is almost sold out\, so why not make a date for Saturday night? The Cape Symphony is proud to present &ldquo\;Bravo Broadway!&rdquo\; on Saturday\, October 15 at 7:30 p.m. and Sunday\, October 16 at 3:00 p.m. at the Barnstable Performing Arts Center\, 744 West Main Street\, Hyannis. For more information and to purchase tickets for &ldquo\;Bravo Broadway!\,&rdquo\; visit capesymphony.org\, call the Box Office at 508-362-1111\, or email tickets@capesymphony.org. Beginning Monday\, September 26\, visit the Box Office in the new location at 2235 Iyannough Road in West Barnstable\, MA. The Cape Symphony Box Office is open Monday &ndash\; Friday from 9:00 a.m. to 5:00 p.m.
LOCATION:Barnstable Performing Arts Center
UID:e.2831.16430
SEQUENCE:3
DTSTAMP:20260421T005744Z
URL:http://yarmouth-dev.chambermaster.com/events/details/bravo-broadway-16430
END:VEVENT

END:VCALENDAR
