BEGIN:VCALENDAR
VERSION:2.0
PRODID:-//ChamberMaster//Event Calendar 2.0//EN
METHOD:PUBLISH
X-PUBLISHED-TTL:P3D
REFRESH-INTERVAL:P3D
CALSCALE:GREGORIAN
BEGIN:VEVENT
DTSTART;VALUE=DATE:20220501
DTEND;VALUE=DATE:20220509
TRANSP:TRANSPARENT
X-MICROSOFT-CDO-ALLDAYEVENT:TRUE
SUMMARY:Cape Cod Art Week
DESCRIPTION:Cape Cod ArtWeek is a celebration of the Cape Cod arts and cultural community and their economic impact on our community. With this inaugural launch\, local arts and cultural organizations\, as well as artists and creative entrepreneurs\, will present innovative\, creative\, affordable\, cultural events in communities across Cape Cod. Cape Cod ArtWeek will show how they creatively impact our community and how we can support the arts and cultural on Cape Cod.
X-ALT-DESC;FMTTYPE=text/html:Cape Cod ArtWeek is a celebration of the Cape Cod arts and cultural community and their economic impact on our community. With this inaugural launch\, local arts and cultural organizations\, as well as artists and creative entrepreneurs\, will present innovative\, creative\, affordable\, cultural events in communities across Cape Cod. Cape Cod ArtWeek will show how they creatively impact our community and how we can support the arts and cultural on Cape Cod.
LOCATION:Across Cape Cod
UID:e.2831.14742
SEQUENCE:3
DTSTAMP:20260422T171943Z
URL:http://yarmouth-dev.chambermaster.com/events/details/cape-cod-art-week-14742
END:VEVENT

END:VCALENDAR
