BEGIN:VCALENDAR
VERSION:2.0
PRODID:-//ChamberMaster//Event Calendar 2.0//EN
METHOD:PUBLISH
X-PUBLISHED-TTL:P3D
REFRESH-INTERVAL:P3D
CALSCALE:GREGORIAN
BEGIN:VEVENT
DTSTART:20221104T170000Z
DTEND:20221104T200000Z
X-MICROSOFT-CDO-ALLDAYEVENT:FALSE
SUMMARY:Cape Cod Military Museum Presentation
DESCRIPTION:The 26th Yankee Division In The Great War. Join us for an educational presentation reviewing formation and training of New England's own Infantry Division. It's deployment and actions in France. We'll share the big picture\, augmented with personal stories. Call to reserve your seat.
X-ALT-DESC;FMTTYPE=text/html:The 26th Yankee Division In The Great War. Join us for an educational presentation reviewing formation and training of New England&#39\;s own Infantry Division. It&#39\;s deployment and actions in France. We&#39\;ll share the big picture\, augmented with personal stories. Call to reserve your seat.
LOCATION:Yarmouth Senior Center 528 Forest Road W Yarmouth MA 02673
UID:e.2831.16524
SEQUENCE:3
DTSTAMP:20260421T212255Z
URL:http://yarmouth-dev.chambermaster.com/events/details/cape-cod-military-museum-presentation-16524
END:VEVENT

END:VCALENDAR
