BEGIN:VCALENDAR
VERSION:2.0
PRODID:-//ChamberMaster//Event Calendar 2.0//EN
METHOD:PUBLISH
X-PUBLISHED-TTL:P3D
REFRESH-INTERVAL:P3D
CALSCALE:GREGORIAN
BEGIN:VEVENT
DTSTART:20230603T143000Z
DTEND:20230603T213000Z
X-MICROSOFT-CDO-ALLDAYEVENT:FALSE
SUMMARY:Cape Cod Pirate Festival
DESCRIPTION:Check out the third Annual Cape Cod Pirate Festival! 4 STAGES of entertainment offer Swashbuckling Adventure!  Rollicking Music\, Stormy Shanties\, and Buccaneers Galore!  \n\n\n\n Try your hand at New World Games AXE and KNIFE THROWING\, or ride the human powered rides!\n\n\n\n Raise a pint\, me hearties\, in Old Tom's Tavern with yer best mates and winsome wenches!  Where better for bonnie lads and lasses to mix and mingle?\n\n\n\n Cast a gander the wares of local and far a' sea vendors as they show off fine crafted wares to satisfy the tastes of the most discriminating corsair.\n\n\n\n Attend with your best mates or bring the entire family as there will be entertainment\, games and shows for pirates of all ages!
X-ALT-DESC;FMTTYPE=text/html:Check out the third Annual Cape Cod Pirate Festival! 4 STAGES of entertainment offer Swashbuckling Adventure!&nbsp\; Rollicking Music\, Stormy Shanties\, and Buccaneers Galore!&nbsp\;&nbsp\;<br />\n<br />\n&#8203\;Try your hand at New World Games AXE and KNIFE THROWING\, or ride the human powered rides!<br />\n<br />\n&#8203\;Raise a pint\, me hearties\, in Old Tom&rsquo\;s Tavern with yer best mates and winsome wenches!&nbsp\; Where better for bonnie lads and lasses to mix and mingle?<br />\n<br />\n&#8203\;Cast a gander the wares of local and far a&#39\; sea vendors as they show off fine crafted wares to satisfy the tastes of the most discriminating corsair.<br />\n<br />\n&#8203\;Attend with your best mates or bring the entire family as there will be entertainment\, games and shows for pirates of all ages!
LOCATION:Yarmouth Fairgrounds 669 Route 28 West Yarmouth\, MA 02673
UID:e.2831.16821
SEQUENCE:3
DTSTAMP:20260420T203030Z
URL:http://yarmouth-dev.chambermaster.com/events/details/cape-cod-pirate-festival-16821
END:VEVENT

END:VCALENDAR
