BEGIN:VCALENDAR
VERSION:2.0
PRODID:-//ChamberMaster//Event Calendar 2.0//EN
METHOD:PUBLISH
X-PUBLISHED-TTL:P3D
REFRESH-INTERVAL:P3D
CALSCALE:GREGORIAN
BEGIN:VEVENT
DTSTART:20221101T113000Z
DTEND:20221101T133000Z
X-MICROSOFT-CDO-ALLDAYEVENT:FALSE
SUMMARY:CCYP Community Breakfast
DESCRIPTION:Join Us for a Moring of Celebrating Our Vibrant Cape Community. Enjoy a delicious breakfast overlooking Pleasant Bay as we spotlight innovative regional partnerships and collaborative initiatives\, recognize outstanding Cape leadership and volunteerism\, and share exciting plans for the year ahead.
X-ALT-DESC;FMTTYPE=text/html:Join Us for a Moring of Celebrating Our Vibrant Cape Community. Enjoy a delicious breakfast overlooking Pleasant Bay as we spotlight innovative regional partnerships and collaborative initiatives\, recognize outstanding Cape leadership and volunteerism\, and share exciting plans for the year ahead.
LOCATION:Wequassett Resort & Club 2173 MA 28 Harwich\, MA 02645
UID:e.2831.16511
SEQUENCE:3
DTSTAMP:20260421T065031Z
URL:http://yarmouth-dev.chambermaster.com/events/details/ccyp-community-breakfast-16511
END:VEVENT

END:VCALENDAR
