BEGIN:VCALENDAR
VERSION:2.0
PRODID:-//ChamberMaster//Event Calendar 2.0//EN
METHOD:PUBLISH
X-PUBLISHED-TTL:P3D
REFRESH-INTERVAL:P3D
CALSCALE:GREGORIAN
BEGIN:VEVENT
DTSTART:20220519T130000Z
DTEND:20220519T143000Z
X-MICROSOFT-CDO-ALLDAYEVENT:FALSE
SUMMARY:Country Breakfast
DESCRIPTION:Windsor Skilled Nursing and Rehabilitation Center will be sponsoring a complete country breakfast. Breakfast will include omelets with eggs cooked to order\, sausages\, bacon and pastries. Registration is required\, seating is limited.
X-ALT-DESC;FMTTYPE=text/html:Windsor Skilled Nursing and Rehabilitation Center will be sponsoring a complete country breakfast. Breakfast will include omelets with eggs cooked to order\, sausages\, bacon and pastries. Registration is required\, seating is limited.
LOCATION:Yarmouth Senior Center 528 Forest Road W Yarmouth MA 02673
UID:e.2831.14778
SEQUENCE:3
DTSTAMP:20260423T085105Z
URL:http://yarmouth-dev.chambermaster.com/events/details/country-breakfast-14778
END:VEVENT

END:VCALENDAR
