BEGIN:VCALENDAR
VERSION:2.0
PRODID:-//ChamberMaster//Event Calendar 2.0//EN
METHOD:PUBLISH
X-PUBLISHED-TTL:P3D
REFRESH-INTERVAL:P3D
CALSCALE:GREGORIAN
BEGIN:VEVENT
DTSTART:20220923T170000Z
DTEND:20220923T180000Z
X-MICROSOFT-CDO-ALLDAYEVENT:FALSE
SUMMARY:Elder Law Presentation
DESCRIPTION:Attorney Frances Howell Rudko will present "Taking Control of Your Future: A Legal Checkup\," a resource guide for 2022. Topics to be discussed are Veteran Affairs Financial Benefits\, how to protect your home and assets\, power of attorney and health care proxies\, reverse mortgages\, Homestead and Life Estates\, Medicare/Medicaid changes\, COVID-19 resources\, and alternatives to nursing home care. Limited resource guides available.
X-ALT-DESC;FMTTYPE=text/html:Attorney Frances Howell Rudko will present &quot\;Taking Control of Your Future: A Legal Checkup\,&quot\; a resource guide for 2022. Topics to be discussed are Veteran Affairs Financial Benefits\, how to protect your home and assets\, power of attorney and health care proxies\, reverse mortgages\, Homestead and Life Estates\, Medicare/Medicaid changes\, COVID-19 resources\, and alternatives to nursing home care. Limited resource guides available.
LOCATION:Yarmouth Senior Center 528 Forest Road W Yarmouth MA 02673
UID:e.2831.16192
SEQUENCE:3
DTSTAMP:20260425T015226Z
URL:http://yarmouth-dev.chambermaster.com/events/details/elder-law-presentation-16192
END:VEVENT

END:VCALENDAR
