BEGIN:VCALENDAR
VERSION:2.0
PRODID:-//ChamberMaster//Event Calendar 2.0//EN
METHOD:PUBLISH
X-PUBLISHED-TTL:P3D
REFRESH-INTERVAL:P3D
CALSCALE:GREGORIAN
BEGIN:VEVENT
DTSTART:20221021T170000Z
DTEND:20221021T200000Z
X-MICROSOFT-CDO-ALLDAYEVENT:FALSE
SUMMARY:Eldred's Appraisal Event
DESCRIPTION:Sponsored by FOYCOA. Bring your valuables to be appraised. Similar to PBS Antique Road Show. Bring in Antiques\, Art\, Jewelry\, Small Furniture\, Valuable Objects.
X-ALT-DESC;FMTTYPE=text/html:Sponsored by FOYCOA. Bring your valuables to be appraised. Similar to PBS Antique Road Show. Bring in Antiques\, Art\, Jewelry\, Small Furniture\, Valuable Objects.
LOCATION:Yarmouth Senior Center 528 Forest Road W Yarmouth MA 02673
UID:e.2831.16207
SEQUENCE:3
DTSTAMP:20260420T193705Z
URL:http://yarmouth-dev.chambermaster.com/events/details/eldred-s-appraisal-event-16207
END:VEVENT

END:VCALENDAR
