BEGIN:VCALENDAR
VERSION:2.0
PRODID:-//ChamberMaster//Event Calendar 2.0//EN
METHOD:PUBLISH
X-PUBLISHED-TTL:P3D
REFRESH-INTERVAL:P3D
CALSCALE:GREGORIAN
BEGIN:VEVENT
DTSTART;VALUE=DATE:20220727
DTEND;VALUE=DATE:20221016
TRANSP:TRANSPARENT
X-MICROSOFT-CDO-ALLDAYEVENT:TRUE
SUMMARY:Fall Bulb Sale Fundraiser
DESCRIPTION:ATTENTION GARDENERS! The Yarmouth Port Library's Annual Bulb Sale is now underway and it couldn't be easier to order the bulbs to add to the beauty of your garden. The catalog is ONLINE ONLY. Choose from over 60 high quality catalog items. All purchased items come with detailed bulb information for successful planting. Orders will be mailed to you in time for fall planting. Go to the YP library website at www.yarmouthportlibrary.org for more information and the link to the online catalog. The library will receive 50% from every bulb purchase. Yarmouth Port is a privately funded library but open to the public so your order will help support their mission to bring current and meaningful resources to library patrons and the community. For a direct link to the online catalogue go to: YarmouthPortLibrary.fpfundraising.com
X-ALT-DESC;FMTTYPE=text/html:ATTENTION GARDENERS! The Yarmouth Port Library&rsquo\;s Annual Bulb Sale is now underway and it couldn&rsquo\;t be easier to order the bulbs to add to the beauty of your garden. The catalog is ONLINE ONLY. Choose from over 60 high quality catalog items. All purchased items come with detailed bulb information for successful planting. Orders will be mailed to you in time for fall planting. Go to the YP library website at www.yarmouthportlibrary.org for more information and the link to the online catalog. The library will receive 50% from every bulb purchase. Yarmouth Port is a privately funded library but open to the public so your order will help support their mission to bring current and meaningful resources to library patrons and the community. For a direct link to the online catalogue go to: YarmouthPortLibrary.fpfundraising.com
LOCATION:Online Only
UID:e.2831.16152
SEQUENCE:3
DTSTAMP:20260423T233825Z
URL:http://yarmouth-dev.chambermaster.com/events/details/fall-bulb-sale-fundraiser-16152
END:VEVENT

END:VCALENDAR
