BEGIN:VCALENDAR
VERSION:2.0
PRODID:-//ChamberMaster//Event Calendar 2.0//EN
METHOD:PUBLISH
X-PUBLISHED-TTL:P3D
REFRESH-INTERVAL:P3D
CALSCALE:GREGORIAN
BEGIN:VEVENT
DTSTART:20221114T193000Z
DTEND:20221114T203000Z
X-MICROSOFT-CDO-ALLDAYEVENT:FALSE
SUMMARY:Fire Safety Tips
DESCRIPTION:YFD Fire Inspector\, Lt Adam Ryker will discuss holiday safety while cooking\, smoke detectors\, carbon monoxide detectors and much more.
X-ALT-DESC;FMTTYPE=text/html:YFD Fire Inspector\, Lt Adam Ryker will discuss holiday safety while cooking\, smoke detectors\, carbon monoxide detectors and much more.
LOCATION:Yarmouth Senior Center 528 Forest Road W Yarmouth MA 02673
UID:e.2831.16527
SEQUENCE:3
DTSTAMP:20260421T065031Z
URL:http://yarmouth-dev.chambermaster.com/events/details/fire-safety-tips-16527
END:VEVENT

END:VCALENDAR
