BEGIN:VCALENDAR
VERSION:2.0
PRODID:-//ChamberMaster//Event Calendar 2.0//EN
METHOD:PUBLISH
X-PUBLISHED-TTL:P3D
REFRESH-INTERVAL:P3D
CALSCALE:GREGORIAN
BEGIN:VEVENT
DTSTART:20230101T114500Z
DTEND:20230101T200000Z
X-MICROSOFT-CDO-ALLDAYEVENT:FALSE
SUMMARY:First Day Hikes Cape Cod 2023
DESCRIPTION:A unique one-day regional celebration featuring 11 free special walks\, talks\, and hikes in across Cape Cod providing a range of opportunities for families\, children\, residents\, and visitors to get outside and explore on the first day of the new year.
X-ALT-DESC;FMTTYPE=text/html:A unique one-day regional celebration featuring 11 free special walks\, talks\, and hikes in across Cape Cod providing a range of opportunities for families\, children\, residents\, and visitors to get outside and explore on the first day of the new year.&nbsp\;
LOCATION:Various locations across Cape Cod (Barnstable\, Brewster\, Chatham\, Dennis\, Falmouth\, Harwich\, Orleans\, and Wellfleet/Truro)
UID:e.2831.16594
SEQUENCE:3
DTSTAMP:20260419T182132Z
URL:http://yarmouth-dev.chambermaster.com/events/details/first-day-hikes-cape-cod-2023-16594
END:VEVENT

END:VCALENDAR
