BEGIN:VCALENDAR
VERSION:2.0
PRODID:-//ChamberMaster//Event Calendar 2.0//EN
METHOD:PUBLISH
X-PUBLISHED-TTL:P3D
REFRESH-INTERVAL:P3D
CALSCALE:GREGORIAN
BEGIN:VEVENT
DTSTART:20220924T170000Z
DTEND:20220924T200000Z
X-MICROSOFT-CDO-ALLDAYEVENT:FALSE
SUMMARY:Intergenerational Variety Show
DESCRIPTION:Join us for a Cape wide Variety Show open to all residents. Bring your family and friends. Featuring MC\, Helen McCarney\, Miss Senior America 2005 and other special guests.
X-ALT-DESC;FMTTYPE=text/html:Join us for a Cape wide Variety Show open to all residents. Bring your family and friends. Featuring MC\, Helen McCarney\, Miss Senior America 2005 and other special guests.
LOCATION:Yarmouth Senior Center 528 Forest Road W Yarmouth MA 02673
UID:e.2831.16193
SEQUENCE:3
DTSTAMP:20260423T234244Z
URL:http://yarmouth-dev.chambermaster.com/events/details/intergenerational-variety-show-16193
END:VEVENT

END:VCALENDAR
