BEGIN:VCALENDAR
VERSION:2.0
PRODID:-//ChamberMaster//Event Calendar 2.0//EN
METHOD:PUBLISH
X-PUBLISHED-TTL:P3D
REFRESH-INTERVAL:P3D
CALSCALE:GREGORIAN
BEGIN:VEVENT
DTSTART:20220504T140000Z
DTEND:20220504T160000Z
X-MICROSOFT-CDO-ALLDAYEVENT:FALSE
SUMMARY:"Learn to Cast Day"
DESCRIPTION:Join the Cape Cod Salties as they host a fishing clinic to teach responsible fishing in an enthusiastic environment to create avid angler's. Learn how to cast\, responsible fishing tips and much more from this hands-on clinic. No experience or equipment is needed. Transportation provided from Yarmouth Senior Center. Pre-registration is required.
X-ALT-DESC;FMTTYPE=text/html:Join the Cape Cod Salties as they host a fishing clinic to teach responsible fishing in an enthusiastic environment to create avid angler&#39\;s. Learn how to cast\, responsible fishing tips and much more from this hands-on clinic. No experience or equipment is needed. Transportation provided from Yarmouth Senior Center. Pre-registration is required.
LOCATION:528 Forest Road West Yarmouth\, MA 02673
UID:e.2831.14748
SEQUENCE:3
DTSTAMP:20260422T154043Z
URL:http://yarmouth-dev.chambermaster.com/events/details/learn-to-cast-day-14748
END:VEVENT

END:VCALENDAR
