BEGIN:VCALENDAR
VERSION:2.0
PRODID:-//ChamberMaster//Event Calendar 2.0//EN
METHOD:PUBLISH
X-PUBLISHED-TTL:P3D
REFRESH-INTERVAL:P3D
CALSCALE:GREGORIAN
BEGIN:VEVENT
DTSTART:20220910T000000Z
DTEND:20220910T020000Z
X-MICROSOFT-CDO-ALLDAYEVENT:FALSE
SUMMARY:Lenny Clarke on Cape Cod
DESCRIPTION:Coming to Cape Cod on September 9th we have Boston comic legend Lenny Clarke and friends at Skippy's pier 1- S. Yarmouth 8 pm! Join Lenny Boston comedy festival winner and the kid with the lid Dave Russo and Mike Mccarthy from the Irish comedy tour on September 9th\, 2022 8 pm. Great food atmosphere drinks and comedy at Cape Cod's #1 comedy location Skippys Pier 1 in South Yarmouth
X-ALT-DESC;FMTTYPE=text/html:Coming to Cape Cod on September 9th we have Boston comic legend Lenny Clarke and friends at Skippy&#39\;s pier 1- S. Yarmouth 8 pm! Join Lenny Boston comedy festival winner and the kid with the lid Dave Russo and Mike Mccarthy from the Irish comedy tour on September 9th\, 2022 8 pm. Great food atmosphere drinks and comedy at Cape Cod&#39\;s #1 comedy location Skippys Pier 1 in South Yarmouth
LOCATION:Skippy's Pier 1 17 Neptune Lane South Yarmouth\, MA 02664
UID:e.2831.16210
SEQUENCE:3
DTSTAMP:20260421T005824Z
URL:http://yarmouth-dev.chambermaster.com/events/details/lenny-clarke-on-cape-cod-16210
END:VEVENT

END:VCALENDAR
