BEGIN:VCALENDAR
VERSION:2.0
PRODID:-//ChamberMaster//Event Calendar 2.0//EN
METHOD:PUBLISH
X-PUBLISHED-TTL:P3D
REFRESH-INTERVAL:P3D
CALSCALE:GREGORIAN
BEGIN:VEVENT
DTSTART:20221025T210000Z
DTEND:20221025T220000Z
X-MICROSOFT-CDO-ALLDAYEVENT:FALSE
SUMMARY:Love Letter to Cape Cod
DESCRIPTION:The film\, "Love Letter to Cape Cod" will be shown on Tuesday\, Oct. 25\, at 5 p.m. at the South Yarmouth United Methodist Church\, 324 Old Main St.\, South Yarmouth. The 30-minute film was made to demonstrate the need to successfully save historic properties on the Cape. The danger of Cape Cod becoming the Hamptons is of real concern to many who see old historic properties being demolished in order to build mcmansions\, according to the film sponsor\, Protect Our Past. The film will be followed by a discussion led by Ellen Brigs\, organizer of Protect Our Past The film showing is co-sponsored by the Historical Society of Old Yarmouth. Refreshments will be served. The event is free. Visit www.protectourpast.org or www.hsoy.org.
X-ALT-DESC;FMTTYPE=text/html:The film\, &ldquo\;Love Letter to Cape Cod&rdquo\; will be shown on Tuesday\, Oct. 25\, at 5 p.m. at the South Yarmouth United Methodist Church\, 324 Old Main St.\, South Yarmouth. The 30-minute film was made to demonstrate the need to successfully save historic properties on the Cape. The danger of Cape Cod becoming the Hamptons is of real concern to many who see old historic properties being demolished in order to build mcmansions\, according to the film sponsor\, Protect Our Past. The film will be followed by a discussion led by Ellen Brigs\, organizer of Protect Our Past The film showing is co-sponsored by the Historical Society of Old Yarmouth. Refreshments will be served. The event is free. Visit www.protectourpast.org or www.hsoy.org.
LOCATION:South Yarmouth United Methodist Church 324 Old Main St.
UID:e.2831.16516
SEQUENCE:3
DTSTAMP:20260421T181154Z
URL:http://yarmouth-dev.chambermaster.com/events/details/love-letter-to-cape-cod-16516
END:VEVENT

END:VCALENDAR
