BEGIN:VCALENDAR
VERSION:2.0
PRODID:-//ChamberMaster//Event Calendar 2.0//EN
METHOD:PUBLISH
X-PUBLISHED-TTL:P3D
REFRESH-INTERVAL:P3D
CALSCALE:GREGORIAN
BEGIN:VEVENT
DTSTART:20220802T173000Z
DTEND:20220802T183000Z
X-MICROSOFT-CDO-ALLDAYEVENT:FALSE
SUMMARY:Mindfulness Meditation Circle
DESCRIPTION:This ongoing class shows how to decrease stress and increase happiness through easy mindfulness techniques while seated in chairs. This nonsectarian class is taught by experienced meditation teacher and retired professor James Kershner. No experience necessary. Advance registration & payment is required. Call: 508-394-7606 X 1330 for more info
X-ALT-DESC;FMTTYPE=text/html:This ongoing class shows how to decrease stress and increase happiness through easy mindfulness techniques while seated in chairs. This nonsectarian class is taught by experienced meditation teacher and retired professor James Kershner. No experience necessary. Advance registration &amp\; payment is required. Call: 508-394-7606 X 1330 for more info
LOCATION:Yarmouth Senior Center 528 Forest Road West Yarmouth MA 02673
UID:e.2831.16140
SEQUENCE:3
DTSTAMP:20260422T075211Z
URL:http://yarmouth-dev.chambermaster.com/events/details/mindfulness-meditation-circle-16140
END:VEVENT

END:VCALENDAR
