BEGIN:VCALENDAR
VERSION:2.0
PRODID:-//ChamberMaster//Event Calendar 2.0//EN
METHOD:PUBLISH
X-PUBLISHED-TTL:P3D
REFRESH-INTERVAL:P3D
CALSCALE:GREGORIAN
BEGIN:VEVENT
DTSTART:20220802T130000Z
DTEND:20220802T150000Z
X-MICROSOFT-CDO-ALLDAYEVENT:FALSE
SUMMARY:Native American Summer Program
DESCRIPTION:Families will learn about Native American life on Cape Cod before the Pilgrims in a hands-on summer program led by members of the Nipmuc-Wampanoag community. The programs will be held Aug. 2 and 4 at a reconstructed wetu at the Historical Society of Old Yarmouth off Route 6A in Yarmouth Port. The programs will include crafts\, storytelling\, music and a guided walk for children ages 8-10 and their parents from 9 to 11 a.m. Cost is $15 per child. For more information and registration visit www.hsoy.org/events or call 508-362-3021.
X-ALT-DESC;FMTTYPE=text/html:Families will learn about Native American life on Cape Cod before the Pilgrims in a hands-on summer program led by members of the Nipmuc-Wampanoag community. The programs will be held Aug. 2 and 4 at a reconstructed wetu at the Historical Society of Old Yarmouth off Route 6A in Yarmouth Port. The programs will include crafts\, storytelling\, music and a guided walk for children ages 8-10 and their parents from 9 to 11 a.m. Cost is $15 per child. For more information and registration visit www.hsoy.org/events or call 508-362-3021.
LOCATION:Historical Society of Old Yarmouth Route 6A\, Yarmouth Port
UID:e.2831.16155
SEQUENCE:3
DTSTAMP:20260421T083159Z
URL:http://yarmouth-dev.chambermaster.com/events/details/native-american-summer-program-08-02-2022-16155
END:VEVENT

END:VCALENDAR
