BEGIN:VCALENDAR
VERSION:2.0
PRODID:-//ChamberMaster//Event Calendar 2.0//EN
METHOD:PUBLISH
X-PUBLISHED-TTL:P3D
REFRESH-INTERVAL:P3D
CALSCALE:GREGORIAN
BEGIN:VEVENT
DTSTART:20221102T140000Z
DTEND:20221102T150000Z
X-MICROSOFT-CDO-ALLDAYEVENT:FALSE
SUMMARY:Osteoarthritis Community Educational Presentation
DESCRIPTION:This is a presentation on osteoarthritis\, given by a medical science liaison from Amgen. The audience will learn about what osteoporosis is\, how it is diagnosed\, and how they can take charge of their bone health. Please note that this presentation does not constitute medical advice.
X-ALT-DESC;FMTTYPE=text/html:This is a presentation on osteoarthritis\, given by a medical science liaison from Amgen. The audience will learn about what osteoporosis is\, how it is diagnosed\, and how they can take charge of their bone health. Please note that this presentation does not constitute medical advice.
LOCATION:Yarmouth Senior Center 528 Forest Road W Yarmouth MA 02673
UID:e.2831.16522
SEQUENCE:3
DTSTAMP:20260424T153429Z
URL:http://yarmouth-dev.chambermaster.com/events/details/osteoarthritis-community-educational-presentation-16522
END:VEVENT

END:VCALENDAR
