BEGIN:VCALENDAR
VERSION:2.0
PRODID:-//ChamberMaster//Event Calendar 2.0//EN
METHOD:PUBLISH
X-PUBLISHED-TTL:P3D
REFRESH-INTERVAL:P3D
CALSCALE:GREGORIAN
BEGIN:VEVENT
DTSTART:20220622T210000Z
DTEND:20220623T010000Z
X-MICROSOFT-CDO-ALLDAYEVENT:FALSE
SUMMARY:Outing Group
DESCRIPTION:At the Y-D Red Sox vs Orleans Game Join in on the fun and be social.  The Outing Group is an opportunity to get out of the house and meet some new friends. Bring your lawn chairs.
X-ALT-DESC;FMTTYPE=text/html:At the Y-D Red Sox vs Orleans Game Join in on the fun and be social.&nbsp\; The Outing Group is an opportunity to get out of the house and meet some new friends. Bring your lawn chairs.
LOCATION:Red Wilson Field 210 Station Ave South Yarmouth\, MA
UID:e.2831.14780
SEQUENCE:3
DTSTAMP:20260423T014540Z
URL:http://yarmouth-dev.chambermaster.com/events/details/outing-group-06-22-2022-14780
END:VEVENT

END:VCALENDAR
