BEGIN:VCALENDAR
VERSION:2.0
PRODID:-//ChamberMaster//Event Calendar 2.0//EN
METHOD:PUBLISH
X-PUBLISHED-TTL:P3D
REFRESH-INTERVAL:P3D
CALSCALE:GREGORIAN
BEGIN:VEVENT
DTSTART:20221026T153000Z
DTEND:20221026T163000Z
X-MICROSOFT-CDO-ALLDAYEVENT:FALSE
SUMMARY:Outing Group
DESCRIPTION:Sea Dog Brew Pub on 23 Whites Path in South Yarmouth. Meet new friends\, share some laughs and have fun while having lunch.
X-ALT-DESC;FMTTYPE=text/html:Sea Dog Brew Pub on 23 Whites Path in South Yarmouth. Meet new friends\, share some laughs and have fun while having lunch.
LOCATION:Yarmouth Senior Center 528 Forest Road W Yarmouth MA 02673
UID:e.2831.16204
SEQUENCE:3
DTSTAMP:20260421T140757Z
URL:http://yarmouth-dev.chambermaster.com/events/details/outing-group-10-26-2022-16204
END:VEVENT

END:VCALENDAR
