BEGIN:VCALENDAR
VERSION:2.0
PRODID:-//ChamberMaster//Event Calendar 2.0//EN
METHOD:PUBLISH
X-PUBLISHED-TTL:P3D
REFRESH-INTERVAL:P3D
CALSCALE:GREGORIAN
BEGIN:VEVENT
DTSTART:20220909T220000Z
DTEND:20220910T000000Z
X-MICROSOFT-CDO-ALLDAYEVENT:FALSE
SUMMARY:Paint & Sip with Bernadette Waystack
DESCRIPTION:Presented by the Cultural Center of Cape Cod on Friday\, September 9 (actually 2nd Friday this month!)\, from 6pm-8pm. TGIF and Fri-yay! Join us for a no pressure\, fun way to wind down the work week and get your inner Artist on. Bring along your old friends or make some new ones. And don't say you can't paint! Everyone no matter their skill level or past experience will fit right in and can play along. There will be step-by-step instruction but lots of room to make your own choices too. We will work from a theme with several variations\, the goal being a more personalized painting that reflects your own style. Teaching artist Bernadette Waystack leads this fun group session giving you as much or as little guidance as you need. Bring along your favorite snacks and beverages for a happy hour playing with paint that will start your weekend off right. Visit the Cultural Center's website for information on their COVID policy. $42/$37 for members.?All materials included. Register at www.cultural-center.org or call 508-394-7100. The Cultural Center is located at 307 Old Main Street in South Yarmouth.
X-ALT-DESC;FMTTYPE=text/html:Presented by the Cultural Center of Cape Cod on Friday\, September 9 (actually 2nd Friday this month!)\, from 6pm-8pm. TGIF and Fri-yay! Join us for a no pressure\, fun way to wind down the work week and get your inner Artist on. Bring along your old friends or make some new ones. And don&rsquo\;t say you can&rsquo\;t paint! Everyone no matter their skill level or past experience will fit right in and can play along. There will be step-by-step instruction but lots of room to make your own choices too. We will work from a theme with several variations\, the goal being a more personalized painting that reflects your own style. Teaching artist Bernadette Waystack leads this fun group session giving you as much or as little guidance as you need. Bring along your favorite snacks and beverages for a happy hour playing with paint that will start your weekend off right. Visit the Cultural Center&rsquo\;s website for information on their COVID policy. $42/$37 for members.?All materials included. Register at www.cultural-center.org or call 508-394-7100. The Cultural Center is located at 307 Old Main Street in South Yarmouth.
LOCATION:Cultural Center of Cape Cod
UID:e.2831.16233
SEQUENCE:3
DTSTAMP:20260421T031424Z
URL:http://yarmouth-dev.chambermaster.com/events/details/paint-sip-with-bernadette-waystack-16233
END:VEVENT

END:VCALENDAR
