BEGIN:VCALENDAR
VERSION:2.0
PRODID:-//ChamberMaster//Event Calendar 2.0//EN
METHOD:PUBLISH
X-PUBLISHED-TTL:P3D
REFRESH-INTERVAL:P3D
CALSCALE:GREGORIAN
BEGIN:VEVENT
DTSTART:20220928T220000Z
DTEND:20220929T010000Z
X-MICROSOFT-CDO-ALLDAYEVENT:FALSE
SUMMARY:Sip & Script Calligraphy Class
DESCRIPTION:The perfect crafty night out or overnight getaway! Join us at Red Jacket Beach for cocktails and modern calligraphy for beginners. Whether you're a stationery nerd\, DIY Bride-to-be\, or just a crafty individual\, in this workshop you'll be learning an introduction to modern calligraphy with a pointed dip pen and ink. Class includes 1.5 hours of instruction and demonstration\, our beginner's calligraphy kit (two nibs\, black ink pot\, 2 letter guides\, tracing paper and straight pen holder)\, and all materials to write on. Everything is yours to keep at the end of the workshop! Feel free to come early to check in\, grab your seat\, and order any food (food and drinks available to order throughout class too!). Class will start promptly at 6pm!
X-ALT-DESC;FMTTYPE=text/html:The perfect crafty night out or overnight getaway! Join us at Red Jacket Beach for cocktails and modern calligraphy for beginners. Whether you&rsquo\;re a stationery nerd\, DIY Bride-to-be\, or just a crafty individual\, in this workshop you&rsquo\;ll be learning an introduction to modern calligraphy with a pointed dip pen and ink. Class includes 1.5 hours of instruction and demonstration\, our beginner&rsquo\;s calligraphy kit (two nibs\, black ink pot\, 2 letter guides\, tracing paper and straight pen holder)\, and all materials to write on. Everything is yours to keep at the end of the workshop! Feel free to come early to check in\, grab your seat\, and order any food (food and drinks available to order throughout class too!). Class will start promptly at 6pm!
LOCATION:Red Jacket Beach Resort\, 1 South Shore Drive\, South Yarmouth
UID:e.2831.16468
SEQUENCE:3
DTSTAMP:20260420T130727Z
URL:http://yarmouth-dev.chambermaster.com/events/details/sip-script-calligraphy-class-16468
END:VEVENT

END:VCALENDAR
