BEGIN:VCALENDAR
VERSION:2.0
PRODID:-//ChamberMaster//Event Calendar 2.0//EN
METHOD:PUBLISH
X-PUBLISHED-TTL:P3D
REFRESH-INTERVAL:P3D
CALSCALE:GREGORIAN
BEGIN:VEVENT
DTSTART:20221030T210000Z
DTEND:20221030T223000Z
X-MICROSOFT-CDO-ALLDAYEVENT:FALSE
SUMMARY:Spaghetti Supper Fundraiser
DESCRIPTION:ANNUAL SPAGHETTI SUPPER The Annual Spaghetti Supper Fundraiser to benefit The Yarmouth Port Library will be held Sunday\, October 30th\, at Jack's Outback II\, Rt 6A\, Yarmouth Port. There will be 2 seatings\, 5:00PM and 6:30PM. A limited number of take-out orders will also be available for pick-up before the first seating. The menu includes spaghetti with a choice of 5 sauces\, salad\, bread\, and a selection from a homemade dessert tray. All tickets must be purchased ahead of time at the library\, 297 Rt 6A\, during normal library hours. Tickets are $15 for library members and $20 for Non-members. Tickets go fast so don't delay.
X-ALT-DESC;FMTTYPE=text/html:ANNUAL SPAGHETTI SUPPER The Annual Spaghetti Supper Fundraiser to benefit The Yarmouth Port Library will be held Sunday\, October 30th\, at Jack&rsquo\;s Outback II\, Rt 6A\, Yarmouth Port. There will be 2 seatings\, 5:00PM and 6:30PM. A limited number of take-out orders will also be available for pick-up before the first seating. The menu includes spaghetti with a choice of 5 sauces\, salad\, bread\, and a selection from a homemade dessert tray. All tickets must be purchased ahead of time at the library\, 297 Rt 6A\, during normal library hours. Tickets are $15 for library members and $20 for Non-members. Tickets go fast so don&rsquo\;t delay.
LOCATION:Jack's Outback II\, Rt 6A\, Yarmouth Port
UID:e.2831.16506
SEQUENCE:3
DTSTAMP:20260421T083156Z
URL:http://yarmouth-dev.chambermaster.com/events/details/spaghetti-supper-fundraiser-16506
END:VEVENT

END:VCALENDAR
