BEGIN:VCALENDAR
VERSION:2.0
PRODID:-//ChamberMaster//Event Calendar 2.0//EN
METHOD:PUBLISH
X-PUBLISHED-TTL:P3D
REFRESH-INTERVAL:P3D
CALSCALE:GREGORIAN
BEGIN:VEVENT
DTSTART:20220203T150000Z
DTEND:20220203T160000Z
X-MICROSOFT-CDO-ALLDAYEVENT:FALSE
SUMMARY:Spanish Basic II
DESCRIPTION:In this class\, we learn how to conjugate the Spanish regular verbs in the present tense to describe situations of real life. You will learn how to express basic wishes and near future plans. These phases can be helpful when traveling to Spanish speaking countries or interacting with your Spanish speaking friends.
X-ALT-DESC;FMTTYPE=text/html:In this class\, we learn how to conjugate the Spanish regular verbs in the present tense to describe situations of real life. You will learn how to express basic wishes and near future plans. These phases can be helpful when traveling to Spanish speaking countries or interacting with your Spanish speaking friends.
LOCATION:Yarmouth Senior Center 528 Forest Road West Yarmouth MA 02673
UID:e.2831.14566
SEQUENCE:3
DTSTAMP:20260425T144146Z
URL:http://yarmouth-dev.chambermaster.com/events/details/spanish-basic-ii-02-03-2022-14566
END:VEVENT

END:VCALENDAR
