BEGIN:VCALENDAR
VERSION:2.0
PRODID:-//ChamberMaster//Event Calendar 2.0//EN
METHOD:PUBLISH
X-PUBLISHED-TTL:P3D
REFRESH-INTERVAL:P3D
CALSCALE:GREGORIAN
BEGIN:VEVENT
DTSTART:20220317T170000Z
DTEND:20220317T180000Z
X-MICROSOFT-CDO-ALLDAYEVENT:FALSE
SUMMARY:St Patrick's Day Celebration
DESCRIPTION:Come join in on the festivities while picking up a grab and go lunch.  Lunches are being prepared by Steve Higgins\, Chef at the Hearth and Kettle restaurant.  Lunches include a hearty portion of corned beef\, cabbage\, carrots\, turnip\, potatoes\, onions and Irish soda bread. PRE-PAY ONLY NO RESERVING TICKETS Come in to buy your tickets in advance. Tickets: $10.00 per person
X-ALT-DESC;FMTTYPE=text/html:Come join in on the festivities while picking up a grab and go lunch.&nbsp\; Lunches are being prepared by Steve Higgins\, Chef at the Hearth and Kettle restaurant.&nbsp\; Lunches include a hearty portion of corned beef\, cabbage\, carrots\, turnip\, potatoes\, onions and Irish soda bread. PRE-PAY ONLY NO RESERVING TICKETS Come in to buy your tickets in advance. Tickets: $10.00 per person
LOCATION:Yarmouth Senior Center 528 Forest Road W Yarmouth MA 02673
UID:e.2831.14658
SEQUENCE:3
DTSTAMP:20260425T171324Z
URL:http://yarmouth-dev.chambermaster.com/events/details/st-patrick-s-day-celebration-14658
END:VEVENT

END:VCALENDAR
