BEGIN:VCALENDAR
VERSION:2.0
PRODID:-//ChamberMaster//Event Calendar 2.0//EN
METHOD:PUBLISH
X-PUBLISHED-TTL:P3D
REFRESH-INTERVAL:P3D
CALSCALE:GREGORIAN
BEGIN:VEVENT
DTSTART:20220731T220000Z
DTEND:20220801T020000Z
X-MICROSOFT-CDO-ALLDAYEVENT:FALSE
SUMMARY:Summer Starlight
DESCRIPTION:Cape Rep will present its annual fundraising benefit gala Summer Starlight on Sunday\, July 31\, featuring live entertainment\, delicious food and much more.
X-ALT-DESC;FMTTYPE=text/html:<p>Cape Rep will present its annual fundraising benefit gala <strong><em>Summer Starlight</em></strong> on Sunday\, July 31\, featuring live entertainment\, delicious food and much more.</p>\n
LOCATION:Cape Rep Theatre 3299 Main St. Brewster\, MA 02631
UID:e.2831.16094
SEQUENCE:3
DTSTAMP:20260422T060318Z
URL:http://yarmouth-dev.chambermaster.com/events/details/summer-starlight-16094
END:VEVENT

END:VCALENDAR
