BEGIN:VCALENDAR
VERSION:2.0
PRODID:-//ChamberMaster//Event Calendar 2.0//EN
METHOD:PUBLISH
X-PUBLISHED-TTL:P3D
REFRESH-INTERVAL:P3D
CALSCALE:GREGORIAN
BEGIN:VEVENT
DTSTART:20221201T180000Z
DTEND:20221201T200000Z
X-MICROSOFT-CDO-ALLDAYEVENT:FALSE
SUMMARY:Tech Tutor Technology Clinic with Luke
DESCRIPTION:Join us in welcoming Luke our Technology Tutor. This is not "emergency" tech help. If you're having a specific/complex problem with your device\, please contact your device manufacturer or private tech help company. Appointments are held in person at the Yarmouth Senior Center during appointment hours. Our Tech Tutor can help you with the following: iPhone\, Android\, iPad\, tablet\, PC\, Computer (Mac)\, and Zoom. We cannot assist with any devices that cannot be brought to the Senior Center.
X-ALT-DESC;FMTTYPE=text/html:Join us in welcoming Luke our Technology Tutor. This is not &quot\;emergency&quot\; tech help. If you&#39\;re having a specific/complex problem with your device\, please contact your device manufacturer or private tech help company. Appointments are held in person at the Yarmouth Senior Center during appointment hours. Our Tech Tutor can help you with the following: iPhone\, Android\, iPad\, tablet\, PC\, Computer (Mac)\, and Zoom. We cannot assist with any devices that cannot be brought to the Senior Center.
LOCATION:Yarmouth Senior Center 528 Forest Road W Yarmouth\, MA 02673
UID:e.2831.16559
SEQUENCE:3
DTSTAMP:20260421T071854Z
URL:http://yarmouth-dev.chambermaster.com/events/details/tech-tutor-technology-clinic-with-luke-16559
END:VEVENT

END:VCALENDAR
