BEGIN:VCALENDAR
VERSION:2.0
PRODID:-//ChamberMaster//Event Calendar 2.0//EN
METHOD:PUBLISH
X-PUBLISHED-TTL:P3D
REFRESH-INTERVAL:P3D
CALSCALE:GREGORIAN
BEGIN:VEVENT
DTSTART:20220511T170000Z
DTEND:20220511T190000Z
X-MICROSOFT-CDO-ALLDAYEVENT:FALSE
SUMMARY:TechKnow Provided by AT&T
DESCRIPTION:Yarmouth Senior Center partners with AT&T to provide TechKnow. An innovative program that makes new technology not only accessible to our consumers but easy to incorporate technology into their everyday lives. Participants can expect to learn how to upgrade into the latest devices\, add/ remove contacts\, back up their data into the cloud\, make video calls\, understand and utilize apps\, troubleshooting techniques and more. Participants are encouraged to bring their device of choice and/or questions on a device they are looking to transition to. Call: 508-394-7606 X1330 to reserve your 1:1 consultation.
X-ALT-DESC;FMTTYPE=text/html:Yarmouth Senior Center partners with AT&amp\;T to provide TechKnow. An innovative program that makes new technology not only accessible to our consumers but easy to incorporate technology into their everyday lives. Participants can expect to learn how to upgrade into the latest devices\, add/ remove contacts\, back up their data into the cloud\, make video calls\, understand and utilize apps\, troubleshooting techniques and more. Participants are encouraged to bring their device of choice and/or questions on a device they are looking to transition to. Call: 508-394-7606 X1330 to reserve your 1:1 consultation.
LOCATION:Yarmouth Senior Center 528 Forest Road W Yarmouth MA 02673
UID:e.2831.14782
SEQUENCE:3
DTSTAMP:20260422T172411Z
URL:http://yarmouth-dev.chambermaster.com/events/details/techknow-provided-by-at-t-14782
END:VEVENT

END:VCALENDAR
