BEGIN:VCALENDAR
VERSION:2.0
PRODID:-//ChamberMaster//Event Calendar 2.0//EN
METHOD:PUBLISH
X-PUBLISHED-TTL:P3D
REFRESH-INTERVAL:P3D
CALSCALE:GREGORIAN
BEGIN:VEVENT
DTSTART:20230122T200000Z
DTEND:20230122T220000Z
X-MICROSOFT-CDO-ALLDAYEVENT:FALSE
SUMMARY:The Romantics
DESCRIPTION:Cape Cod may be cold in January\, but the Cape Symphony's January 21 & 22 Masterpiece concert\, The Romantics\, will heat things up with rock star classical composers. The Romantic Era marked the ascendancy of titans such as Richard Wagner (Prelude to Die Meistersinger)\, Franz Liszt (Piano Concerto No. 1)\, Robert Schumann (Konzertst ck)\, and Johannes Brahms (Academic Festival Overture) who revolutionized the art of live performance\, seducing audiences with their unbridled talent and charisma. We'll be joined by award-winning pianist Maxim Lando\, who will perform Liszt's most famous piano concerto. In fact\, he just won the prestigious New York Liszt International Piano Competition\, performing the same piece that you will hear with the Cape Symphony! Watch this video of his passionate winning performance. The Cape Symphony is proud to present "The Romantics" on Saturday\, January 21 at 7:30 p.m. and Sunday\, January 22\, 2023 at 3:00 p.m.at the Barnstable Performing Arts Center\, 744 West Main Street\, Hyannis. To purchase tickets\, visit capesymphony.org\, call the Box Office at 508-362-1111\, email tickets@capesymphony.org\, or visit the Box Office in the new location at 2235 Iyannough Road in West Barnstable\, MA. The Cape Symphony Box Office is open Monday   Friday from 9:00 a.m. to 5:00 p.m.
X-ALT-DESC;FMTTYPE=text/html:Cape Cod may be cold in January\, but the Cape Symphony&rsquo\;s January 21 &amp\; 22 Masterpiece concert\, The Romantics\, will heat things up with rock star classical composers. The Romantic Era marked the ascendancy of titans such as Richard Wagner (Prelude to Die Meistersinger)\, Franz Liszt (Piano Concerto No. 1)\, Robert Schumann (Konzertst&uuml\;ck)\, and Johannes Brahms (Academic Festival Overture) who revolutionized the art of live performance\, seducing audiences with their unbridled talent and charisma. We&#39\;ll be joined by award-winning pianist Maxim Lando\, who will perform Liszt&rsquo\;s most famous piano concerto. In fact\, he just won the prestigious New York Liszt International Piano Competition\, performing the same piece that you will hear with the Cape Symphony! Watch this video of his passionate winning performance. The Cape Symphony is proud to present &ldquo\;The Romantics&rdquo\; on Saturday\, January 21 at 7:30 p.m. and Sunday\, January 22\, 2023 at 3:00 p.m.at the Barnstable Performing Arts Center\, 744 West Main Street\, Hyannis. To purchase tickets\, visit capesymphony.org\, call the Box Office at 508-362-1111\, email tickets@capesymphony.org\, or visit the Box Office in the new location at 2235 Iyannough Road in West Barnstable\, MA. The Cape Symphony Box Office is open Monday &ndash\; Friday from 9:00 a.m. to 5:00 p.m.
LOCATION:Barnstable Performing Arts Center\, 744 West Main Street\, Hyannis
UID:e.2831.16604
SEQUENCE:3
DTSTAMP:20260422T024045Z
URL:http://yarmouth-dev.chambermaster.com/events/details/the-romantics-01-22-2023-16604
END:VEVENT

END:VCALENDAR
