BEGIN:VCALENDAR
VERSION:2.0
PRODID:-//ChamberMaster//Event Calendar 2.0//EN
METHOD:PUBLISH
X-PUBLISHED-TTL:P3D
REFRESH-INTERVAL:P3D
CALSCALE:GREGORIAN
BEGIN:VEVENT
DTSTART:20220910T173000Z
DTEND:20220910T220000Z
X-MICROSOFT-CDO-ALLDAYEVENT:FALSE
SUMMARY:Top Shot Invitational
DESCRIPTION:The Veteran's Top Shot Invitational Target Shooting Competition is on September 11th at Cape Gun Works in Hyannis. Teams of 4 will be scheduled for their range time so members can shoot together. If you register less than 4 shooters\, we'll pair you up with others to form a team of 4.\n\n\n\nLive music\, entertainment\, food\, and appetizers will be provided. Come and hang out with other Veterans and those who support our Veterans.\n\n\n\nFirearms\n\nDuring the shooting competition\, each team member will take 10 shots from each of the following guns:\n\n\n\n.22LR Pistol\n\n.22LR Rifle\n\n9mm Pistol\n\n9mm Rifle\n\nStructure\n\nYou will have 2 minutes max for each course of fire. The best possible score is 100 for each course of fire\, for a total of 400.\n\n\n\nThe best score for each firearm is added up for the total team score. Each shooter will have 1 score counted towards the team total and the 4 scores will be added together.
X-ALT-DESC;FMTTYPE=text/html:The Veteran&rsquo\;s Top Shot Invitational Target Shooting Competition is on September 11th at Cape Gun Works in Hyannis. Teams of 4 will be scheduled for their range time so members can shoot together. If you register less than 4 shooters\, we&rsquo\;ll pair you up with others to form a team of 4.<br />\n<br />\nLive music\, entertainment\, food\, and appetizers will be provided. Come and hang out with other Veterans and those who support our Veterans.<br />\n<br />\nFirearms<br />\nDuring the shooting competition\, each team member will take 10 shots from each of the following guns:<br />\n<br />\n.22LR Pistol<br />\n.22LR Rifle<br />\n9mm Pistol<br />\n9mm Rifle<br />\nStructure<br />\nYou will have 2 minutes max for each course of fire. The best possible score is 100 for each course of fire\, for a total of 400.<br />\n<br />\nThe best score for each firearm is added up for the total team score. Each shooter will have 1 score counted towards the team total and the 4 scores will be added together.
LOCATION:Cape Gun Works 96 Airport Road Hyannis\, MA 02601
UID:e.2831.16175
SEQUENCE:3
DTSTAMP:20260423T085106Z
URL:http://yarmouth-dev.chambermaster.com/events/details/top-shot-invitational-16175
END:VEVENT

END:VCALENDAR
