BEGIN:VCALENDAR
VERSION:2.0
PRODID:-//ChamberMaster//Event Calendar 2.0//EN
METHOD:PUBLISH
X-PUBLISHED-TTL:P3D
REFRESH-INTERVAL:P3D
CALSCALE:GREGORIAN
BEGIN:VEVENT
DTSTART:20220624T210000Z
DTEND:20220624T230000Z
X-MICROSOFT-CDO-ALLDAYEVENT:FALSE
SUMMARY:Y-D Red Sox vs. Chatham
DESCRIPTION:We host the divisional rival Chatham Anglers for their first trip to Yarmouth this season.
X-ALT-DESC;FMTTYPE=text/html:<p>We host the divisional rival Chatham Anglers for their first trip to Yarmouth this season.</p>\n
LOCATION:Red Wilson Field\, 210 Station Avenue South Yarmouth\, MA. 02664
UID:e.2831.14835
SEQUENCE:3
DTSTAMP:20260422T234756Z
URL:http://yarmouth-dev.chambermaster.com/events/details/y-d-red-sox-vs-14835
END:VEVENT

END:VCALENDAR
