BEGIN:VCALENDAR
VERSION:2.0
PRODID:-//ChamberMaster//Event Calendar 2.0//EN
METHOD:PUBLISH
X-PUBLISHED-TTL:P3D
REFRESH-INTERVAL:P3D
CALSCALE:GREGORIAN
BEGIN:VEVENT
DTSTART:20220621T210000Z
DTEND:20220621T230000Z
X-MICROSOFT-CDO-ALLDAYEVENT:FALSE
SUMMARY:Y-D Red Sox vs. Bourne
DESCRIPTION:We host the Western Division Champs for their first visit to Red Wilson Field in 2022.
X-ALT-DESC;FMTTYPE=text/html:<p>We host the Western Division Champs for their first visit to Red Wilson Field in 2022.</p>\n
LOCATION:Red Wilson Field\, 210 Station Avenue South Yarmouth\, MA. 02664
UID:e.2831.14833
SEQUENCE:3
DTSTAMP:20260423T042226Z
URL:http://yarmouth-dev.chambermaster.com/events/details/y-d-red-sox-vs-bourne-14833
END:VEVENT

END:VCALENDAR
